BEGIN:VCALENDAR
VERSION:2.0
PRODID:-//The Hamlet - ECPv6.15.17//NONSGML v1.0//EN
CALSCALE:GREGORIAN
METHOD:PUBLISH
X-WR-CALNAME:The Hamlet
X-ORIGINAL-URL:https://www.lopezhamlet.com
X-WR-CALDESC:Events for The Hamlet
REFRESH-INTERVAL;VALUE=DURATION:PT1H
X-Robots-Tag:noindex
X-PUBLISHED-TTL:PT1H
BEGIN:VTIMEZONE
TZID:America/Los_Angeles
BEGIN:DAYLIGHT
TZOFFSETFROM:-0800
TZOFFSETTO:-0700
TZNAME:PDT
DTSTART:20160313T100000
END:DAYLIGHT
BEGIN:STANDARD
TZOFFSETFROM:-0700
TZOFFSETTO:-0800
TZNAME:PST
DTSTART:20161106T090000
END:STANDARD
BEGIN:DAYLIGHT
TZOFFSETFROM:-0800
TZOFFSETTO:-0700
TZNAME:PDT
DTSTART:20170312T100000
END:DAYLIGHT
BEGIN:STANDARD
TZOFFSETFROM:-0700
TZOFFSETTO:-0800
TZNAME:PST
DTSTART:20171105T090000
END:STANDARD
BEGIN:DAYLIGHT
TZOFFSETFROM:-0800
TZOFFSETTO:-0700
TZNAME:PDT
DTSTART:20180311T100000
END:DAYLIGHT
BEGIN:STANDARD
TZOFFSETFROM:-0700
TZOFFSETTO:-0800
TZNAME:PST
DTSTART:20181104T090000
END:STANDARD
BEGIN:DAYLIGHT
TZOFFSETFROM:-0800
TZOFFSETTO:-0700
TZNAME:PDT
DTSTART:20190310T100000
END:DAYLIGHT
BEGIN:STANDARD
TZOFFSETFROM:-0700
TZOFFSETTO:-0800
TZNAME:PST
DTSTART:20191103T090000
END:STANDARD
BEGIN:DAYLIGHT
TZOFFSETFROM:-0800
TZOFFSETTO:-0700
TZNAME:PDT
DTSTART:20200308T100000
END:DAYLIGHT
BEGIN:STANDARD
TZOFFSETFROM:-0700
TZOFFSETTO:-0800
TZNAME:PST
DTSTART:20201101T090000
END:STANDARD
BEGIN:DAYLIGHT
TZOFFSETFROM:-0800
TZOFFSETTO:-0700
TZNAME:PDT
DTSTART:20210314T100000
END:DAYLIGHT
BEGIN:STANDARD
TZOFFSETFROM:-0700
TZOFFSETTO:-0800
TZNAME:PST
DTSTART:20211107T090000
END:STANDARD
BEGIN:DAYLIGHT
TZOFFSETFROM:-0800
TZOFFSETTO:-0700
TZNAME:PDT
DTSTART:20220313T100000
END:DAYLIGHT
BEGIN:STANDARD
TZOFFSETFROM:-0700
TZOFFSETTO:-0800
TZNAME:PST
DTSTART:20221106T090000
END:STANDARD
BEGIN:DAYLIGHT
TZOFFSETFROM:-0800
TZOFFSETTO:-0700
TZNAME:PDT
DTSTART:20230312T100000
END:DAYLIGHT
BEGIN:STANDARD
TZOFFSETFROM:-0700
TZOFFSETTO:-0800
TZNAME:PST
DTSTART:20231105T090000
END:STANDARD
BEGIN:DAYLIGHT
TZOFFSETFROM:-0800
TZOFFSETTO:-0700
TZNAME:PDT
DTSTART:20240310T100000
END:DAYLIGHT
BEGIN:STANDARD
TZOFFSETFROM:-0700
TZOFFSETTO:-0800
TZNAME:PST
DTSTART:20241103T090000
END:STANDARD
BEGIN:DAYLIGHT
TZOFFSETFROM:-0800
TZOFFSETTO:-0700
TZNAME:PDT
DTSTART:20250309T100000
END:DAYLIGHT
BEGIN:STANDARD
TZOFFSETFROM:-0700
TZOFFSETTO:-0800
TZNAME:PST
DTSTART:20251102T090000
END:STANDARD
BEGIN:DAYLIGHT
TZOFFSETFROM:-0800
TZOFFSETTO:-0700
TZNAME:PDT
DTSTART:20260308T100000
END:DAYLIGHT
BEGIN:STANDARD
TZOFFSETFROM:-0700
TZOFFSETTO:-0800
TZNAME:PST
DTSTART:20261101T090000
END:STANDARD
END:VTIMEZONE
BEGIN:VEVENT
DTSTART;TZID=America/Los_Angeles:20250906T150000
DTEND;TZID=America/Los_Angeles:20250906T170000
DTSTAMP:20260423T114345
CREATED:20250731T173651Z
LAST-MODIFIED:20250731T173651Z
UID:1634-1757170800-1757178000@www.lopezhamlet.com
SUMMARY:Author Event
DESCRIPTION:“Life Gets Better: The Unexpected Pleasures of Growing Older”\nAn Author Event with Wendy Lustbader\, MSW\nSweet and Savory Hors d’Oeuvres\nHosted by The Hamlet
URL:https://www.lopezhamlet.com/event/author-event/
LOCATION:Lopez Center for Community and the Arts
END:VEVENT
BEGIN:VEVENT
DTSTART;TZID=America/Los_Angeles:20250802T163000
DTEND;TZID=America/Los_Angeles:20250802T190000
DTSTAMP:20260423T114345
CREATED:20250731T173952Z
LAST-MODIFIED:20250731T173952Z
UID:1641-1754152200-1754161200@www.lopezhamlet.com
SUMMARY:First Saturday Art Walk
DESCRIPTION:Group show of Lopez artists
URL:https://www.lopezhamlet.com/event/first-saturday-art-walk/
LOCATION:Gathering Place
END:VEVENT
BEGIN:VEVENT
DTSTART;TZID=America/Los_Angeles:20200211T160000
DTEND;TZID=America/Los_Angeles:20200211T173000
DTSTAMP:20260423T114345
CREATED:20200127T215645Z
LAST-MODIFIED:20200127T215645Z
UID:654-1581436800-1581442200@www.lopezhamlet.com
SUMMARY:Gardening Happy Hour
DESCRIPTION:Come join us at the Hamlet for a Gardening Happy Hour!
URL:https://www.lopezhamlet.com/event/gardening-happy-hour-2/
LOCATION:Gathering Place
END:VEVENT
BEGIN:VEVENT
DTSTART;TZID=America/Los_Angeles:20200203T100000
DTEND;TZID=America/Los_Angeles:20200403T150000
DTSTAMP:20260423T114345
CREATED:20200203T175819Z
LAST-MODIFIED:20200203T175819Z
UID:675-1580724000-1585926000@www.lopezhamlet.com
SUMMARY:Sheila Simpson-Creps' Egg Tempera Paintings at the Gathering Place
DESCRIPTION:Come by the Gathering Place at the Hamlet to see Sheila Simpson-Creps’ beautiful egg tempera paintings! \nThe show will be up starting February 3rd and will run through April 3rd. Gathering Place hours are typically 10 am-3 pm\, Monday-Thursday\, but if you’d like to view the art at a different time\, please contact manager@lopezhamlet.com and we’ll try to arrange another time for viewing.
URL:https://www.lopezhamlet.com/event/sheila-simpson-creps-egg-tempera-paintings-at-the-gathering-place/
LOCATION:Gathering Place
END:VEVENT
BEGIN:VEVENT
DTSTART;TZID=America/Los_Angeles:20190809T173000
DTEND;TZID=America/Los_Angeles:20190809T190000
DTSTAMP:20260423T114345
CREATED:20190718T221642Z
LAST-MODIFIED:20190718T221642Z
UID:632-1565371800-1565377200@www.lopezhamlet.com
SUMMARY:Molly Preston Art Opening\, Exhibit
DESCRIPTION:MollyPreston-poster2019 \nPlease join us for Molly’s art opening reception on August 9th. Molly’s work in oils and watercolors fluctuates between recognizable forms and abstraction. She draws inspiration from her natural surroundings and our local vistas.\nLight refreshments served. \nReception at The Gathering Place\, Aug. 9th\, 5:30 -7pm. \nShow runs until October 29th. Stop by to see her beautiful work during office hours.
URL:https://www.lopezhamlet.com/event/molly-preston-art-opening-exhibit/
END:VEVENT
BEGIN:VEVENT
DTSTART;TZID=America/Los_Angeles:20190728T140000
DTEND;TZID=America/Los_Angeles:20190728T153000
DTSTAMP:20260423T114345
CREATED:20190702T220347Z
LAST-MODIFIED:20190702T220347Z
UID:626-1564322400-1564327800@www.lopezhamlet.com
SUMMARY:Concert & Ice Cream Social on the Green at The Hamlet
DESCRIPTION:July 2019 Concert and Ice Cream social On the Green
URL:https://www.lopezhamlet.com/event/concert-ice-cream-social-on-the-green-at-the-hamlet/
END:VEVENT
BEGIN:VEVENT
DTSTART;VALUE=DATE:20190607
DTEND;VALUE=DATE:20190808
DTSTAMP:20260423T114345
CREATED:20190529T192529Z
LAST-MODIFIED:20190529T193504Z
UID:602-1559865600-1565222399@www.lopezhamlet.com
SUMMARY:Amanda McCauley Art Exhibit in The Gathering Place
DESCRIPTION:Please stop by and see the beautiful pressed flower creations of Amanda McCauley. Her work is made of flowers\, grasses\, twigs and other organic materials she sources from Lopez. She meticulously layers these dried materials to create gorgeous and whimsical collages. Exhibit runs until August 7th\, The Gathering Place is open for viewing\, Monday – Thursday\, 10am – 3pm. \nAmanda McCauley Poster
URL:https://www.lopezhamlet.com/event/amanda-mccauley-art-exhibit-in-the-gathering-place/
END:VEVENT
BEGIN:VEVENT
DTSTART;TZID=America/Los_Angeles:20181108T160000
DTEND;TZID=America/Los_Angeles:20181108T170000
DTSTAMP:20260423T114345
CREATED:20181024T182357Z
LAST-MODIFIED:20181024T182357Z
UID:592-1541692800-1541696400@www.lopezhamlet.com
SUMMARY:Gardening Happy Hour
DESCRIPTION:November 8\, 2018 Garden Happy \nJoin us for an hour of garden discussion with Lopez Master Gardeners.
URL:https://www.lopezhamlet.com/event/gardening-happy-hour/
END:VEVENT
BEGIN:VEVENT
DTSTART;TZID=America/Los_Angeles:20181019T173000
DTEND;TZID=America/Los_Angeles:20181019T190000
DTSTAMP:20260423T114345
CREATED:20181017T174403Z
LAST-MODIFIED:20181017T175245Z
UID:585-1539970200-1539975600@www.lopezhamlet.com
SUMMARY:Lane Langford Art Exhibit
DESCRIPTION:The Hamlet Presents: A Mixed Media Exhibit \nLane Langford\nOctober 16 – December 5\, 2018\nOpening Reception\nFriday\, October 19\, 2018\, 5:30 – 7 PM\nThe Gathering Place\, Lopez Hamlet\nFor more information call The Hamlet at 360-468-2620
URL:https://www.lopezhamlet.com/event/lane-langford-art-exhibit/
END:VEVENT
BEGIN:VEVENT
DTSTART;TZID=America/Los_Angeles:20180929T180000
DTEND;TZID=America/Los_Angeles:20180929T210000
DTSTAMP:20260423T114345
CREATED:20180828T191751Z
LAST-MODIFIED:20180828T191751Z
UID:559-1538244000-1538254800@www.lopezhamlet.com
SUMMARY:Hamlet House Gala
DESCRIPTION:Click here for event details: Hamlet House Gala Info \nPurchase Tickets: Hamlet House Gala Tickets \n 
URL:https://www.lopezhamlet.com/event/hamlet-house-gala/
LOCATION:Lopez Center for Community and the Arts
END:VEVENT
BEGIN:VEVENT
DTSTART;TZID=America/Los_Angeles:20180916T160000
DTEND;TZID=America/Los_Angeles:20180916T170000
DTSTAMP:20260423T114345
CREATED:20180828T184917Z
LAST-MODIFIED:20180828T184917Z
UID:549-1537113600-1537117200@www.lopezhamlet.com
SUMMARY:The Secret World of Island Bats
DESCRIPTION:What bat species live here? How do species differ in what they eat and how they live? Do bats pose any health hazards for humans or do humans threaten the survival of bats?\nKwiaht ecologist Russel Barsh shares some of the key findings of his five-year study of the islands’ bats. He has recorded tens of thousands of bat echolocation calls and visited dozens of bat colonies on Lopez\, Orcas\, and San Juan. Please join us for this fascinating lecture and slide show and listen to recordings of our local bats. \nClick here to see poster: Secret World of Island Bats
URL:https://www.lopezhamlet.com/event/the-secret-world-of-island-bats/
END:VEVENT
BEGIN:VEVENT
DTSTART;TZID=America/Los_Angeles:20180826T140000
DTEND;TZID=America/Los_Angeles:20180826T150000
DTSTAMP:20260423T114345
CREATED:20180807T174332Z
LAST-MODIFIED:20180807T174332Z
UID:539-1535292000-1535295600@www.lopezhamlet.com
SUMMARY:Summer Concert at The Hamlet
DESCRIPTION:Celia Rosenberger directs the Lopez Youth Orchestra and Lopez Chamber Orchestra for a fun and festive program including fiddle tunes and favorite movie and tv theme songs. \nSummer Concert
URL:https://www.lopezhamlet.com/event/summer-concert-at-the-hamlet/
END:VEVENT
BEGIN:VEVENT
DTSTART;TZID=America/Los_Angeles:20180722T140000
DTEND;TZID=America/Los_Angeles:20180722T153000
DTSTAMP:20260423T114345
CREATED:20180705T204259Z
LAST-MODIFIED:20180705T204309Z
UID:535-1532268000-1532273400@www.lopezhamlet.com
SUMMARY:Hootenanny and Ice Cream Social at The Hamlet
DESCRIPTION:2018 Hootenanny and Ice Cream Social \nPlease join us on the lawn for music and ice cream. Bring a blanket to sit on and shade hat or umbrella to keep the sun off.
URL:https://www.lopezhamlet.com/event/hootenanny-and-ice-cream-social-at-the-hamlet/
END:VEVENT
BEGIN:VEVENT
DTSTART;TZID=America/Los_Angeles:20180706T173000
DTEND;TZID=America/Los_Angeles:20180706T190000
DTSTAMP:20260423T114345
CREATED:20180626T204436Z
LAST-MODIFIED:20180626T204436Z
UID:531-1530898200-1530903600@www.lopezhamlet.com
SUMMARY:Pastels and Watercolors by Don & Mary Christensen
DESCRIPTION:Don & Mary Art Exhibit\nPlease join us for Don and Mary Christensen’s art opening on Friday\, July 6th. Light refreshments and beverages served. \nExhibit runs through September 5th.
URL:https://www.lopezhamlet.com/event/pastels-and-watercolors-by-don-mary-christensen/
LOCATION:Gathering Place
END:VEVENT
BEGIN:VEVENT
DTSTART;TZID=America/Los_Angeles:20180406T100000
DTEND;TZID=America/Los_Angeles:20180705T150000
DTSTAMP:20260423T114345
CREATED:20180327T175321Z
LAST-MODIFIED:20180528T204501Z
UID:510-1523008800-1530802800@www.lopezhamlet.com
SUMMARY:Lopez Island Photographic Society Exhibit
DESCRIPTION:The Lopez Island Photographic Society\, L.I.P.S.\, is a group of about 20 local photography enthusiast ranging from the amateur to the professional.\nPlease join us for their exhibit opening on April 6\, 2018\, 5:30pm – 7 pm. Light refreshments and beverages served.\nThe exhibit will run from April 6th – June 6th.
URL:https://www.lopezhamlet.com/event/lopez-island-photographic-society-exhibit/
END:VEVENT
BEGIN:VEVENT
DTSTART;TZID=America/Los_Angeles:20180318T160000
DTEND;TZID=America/Los_Angeles:20180318T173000
DTSTAMP:20260423T114345
CREATED:20180305T213609Z
LAST-MODIFIED:20180305T213609Z
UID:504-1521388800-1521394200@www.lopezhamlet.com
SUMMARY:A Lopez Legacy\, Mary Fagerholm-Reece
DESCRIPTION:Join us for this special lecture and slide show and learn about some of the early settler families of Lopez Island. Mary will share the story of the Browns; her great\, great grandparents and other early Lopez families.\nMary is a Trustee at the Lopez Historical Society and Museum and has extensive family connections on Lopez. \nMary Reese
URL:https://www.lopezhamlet.com/event/a-lopez-legacy-mary-fagerholm-reece/
END:VEVENT
BEGIN:VEVENT
DTSTART;TZID=America/Los_Angeles:20180211T150000
DTEND;TZID=America/Los_Angeles:20180211T163000
DTSTAMP:20260423T114345
CREATED:20180125T183144Z
LAST-MODIFIED:20180125T183144Z
UID:495-1518361200-1518366600@www.lopezhamlet.com
SUMMARY:Ice Age Mammals of North America
DESCRIPTION:The Lopez Hamlet Welcomes Ian Lange \nPlease join us for this fun and fascinating lecture about the Pleistocene world and its inhabitants. Ian will also present slide illustrations of these ice age mammals; ground sloths\, woolly mammoths\, saber-toothed cats and more.
URL:https://www.lopezhamlet.com/event/ice-age-mammals-of-north-america/
END:VEVENT
BEGIN:VEVENT
DTSTART;VALUE=DATE:20180209
DTEND;VALUE=DATE:20180405
DTSTAMP:20260423T114345
CREATED:20180125T185919Z
LAST-MODIFIED:20180125T190140Z
UID:499-1518134400-1522886399@www.lopezhamlet.com
SUMMARY:Ginny Neese Art Exhibit & Opening Reception
DESCRIPTION:Ginny Neese Exhibit 2018 \nLopez artist Ginny Neese has been working in pastels for 10 years. She has exhibits currently in Seattle and Renton and is showing mostly new work for her show at The Gathering Place.\nPlease join us for her art opening on Friday\, February 9th\, 5:30 – 7pm. Light refreshments and beverages served.\nGinny’s exhibit runs through April 4\, 2018. \n 
URL:https://www.lopezhamlet.com/event/ginny-neese-art-exhibit-opening-reception/
END:VEVENT
BEGIN:VEVENT
DTSTART;TZID=America/Los_Angeles:20171216T140000
DTEND;TZID=America/Los_Angeles:20171216T153000
DTSTAMP:20260423T114345
CREATED:20171205T205002Z
LAST-MODIFIED:20171205T205002Z
UID:490-1513432800-1513438200@www.lopezhamlet.com
SUMMARY:Holiday Concert at The Hamlet
DESCRIPTION:Join Celia Rosenberger\, Lopez Youth Orchestra and the Lopez Chamber Orchestra for this joyful holiday concert\, featuring the overture to Handel’s Messiah\, Bach’s 2nd Brandenburg Concerto with Tom Jeffries on piccolo trumpet\, our medley on Pachelbel’s canon\, Celia on a gigue by Vivaldi\, and our favorite Christmas carols to sing a long with. Hope to see you there! \nCelia Rosenberger 2017 Holiday
URL:https://www.lopezhamlet.com/event/holiday-concert-at-the-hamlet/
END:VEVENT
BEGIN:VEVENT
DTSTART;TZID=America/Los_Angeles:20171006T173000
DTEND;TZID=America/Los_Angeles:20171206T190000
DTSTAMP:20260423T114345
CREATED:20171004T181808Z
LAST-MODIFIED:20171019T174822Z
UID:480-1507311000-1512586800@www.lopezhamlet.com
SUMMARY:Bending Time\, A Collection of Images by Bill Evans
DESCRIPTION:Bill Evan’s exhibit is a collection of mostly long exposure images that attempt to “bend time.” \n“Photography is often referred to as capturing a moment on film. I strive to push that boundary and lengthen the moments to impart a sense of motion and capture the emotion of a scene”. \n\n\n\n\n\n\nBill Evans Exhibit \nPlease join us for Bill’s opening reception or drop by The Gathering Place to view his fabulous work. Exhibit runs through November 30th.
URL:https://www.lopezhamlet.com/event/bending-time-a-collection-of-images-by-bill-evans/
END:VEVENT
BEGIN:VEVENT
DTSTART;TZID=America/Los_Angeles:20170820T140000
DTEND;TZID=America/Los_Angeles:20170820T153000
DTSTAMP:20260423T114345
CREATED:20170731T205957Z
LAST-MODIFIED:20170731T210201Z
UID:462-1503237600-1503243000@www.lopezhamlet.com
SUMMARY:Concert on the Green and Ice Cream Social
DESCRIPTION:Join us for a summer concert on the grass at The Gathering Place. \nBill Johnson & Friends will perform bluegrass\, folk\, blues and gospel.Concert on the Green 8.20.2017A \nSunday\, August 20th at 2pm
URL:https://www.lopezhamlet.com/event/concert-on-the-green-and-ice-cream-social/
END:VEVENT
BEGIN:VEVENT
DTSTART;TZID=America/Los_Angeles:20170624T150000
DTEND;TZID=America/Los_Angeles:20170624T163000
DTSTAMP:20260423T114345
CREATED:20170614T202447Z
LAST-MODIFIED:20170614T202507Z
UID:458-1498316400-1498321800@www.lopezhamlet.com
SUMMARY:Celia Rosenberger Summer Concert
DESCRIPTION:Celia Rosenberger conducts the Lopez Chamber Orchestra and Lopez Youth Orchestra in a performance featuring the Bach Double Violin Concerto; a medley of Scarborough Fair\, Beethoven quartets and Vivaldi; and uplifting works by Mozart and Randall Thompson. Interspersed will be joyful songs and fiddle tunes to celebrate the 4th of July.Celia Rosenberger Concert 6.24.2017 \nPlease join us for this free holiday concert. \n 
URL:https://www.lopezhamlet.com/event/celia-rosenberger-summer-concert/
END:VEVENT
BEGIN:VEVENT
DTSTART;VALUE=DATE:20170602
DTEND;VALUE=DATE:20171004
DTSTAMP:20260423T114345
CREATED:20170601T080056Z
LAST-MODIFIED:20170731T210529Z
UID:447-1496361600-1507075199@www.lopezhamlet.com
SUMMARY:Amy Ferron Art Opening
DESCRIPTION:Amy’s lovely art on display in The Gathering Place\nAmy uses acrylic paint\, old maps and atlases to create abstract collages with color and movement. \nJoin us for her art reception on Friday\, June 2\, 2017 at 5:30 pm. \nAmy’s show runs at The Gathering Place from June 1-October 3rd.
URL:https://www.lopezhamlet.com/event/amy-ferron-art-opening/
END:VEVENT
BEGIN:VEVENT
DTSTART;TZID=America/Los_Angeles:20170521T140000
DTEND;TZID=America/Los_Angeles:20170521T153000
DTSTAMP:20260423T114345
CREATED:20170509T100021Z
LAST-MODIFIED:20170509T194954Z
UID:440-1495375200-1495380600@www.lopezhamlet.com
SUMMARY:Gretchen Wing & Friends\, Will the Circle Be Unbroken?
DESCRIPTION:Please join us for an afternoon of original\, traditional and progressive folk music with Gretchen Wing and some of your favorite Lopezian musicians.  Sunday\, May 21st at 2 pm. \nGretchen Wing & Friends \nLimited Seating\, Donations Welcomed
URL:https://www.lopezhamlet.com/event/gretchen-wing-friends-will-the-circle-be-unbroken/
LOCATION:Gathering Place
END:VEVENT
BEGIN:VEVENT
DTSTART;TZID=America/Los_Angeles:20170414T173000
DTEND;TZID=America/Los_Angeles:20170531T190000
DTSTAMP:20260423T114345
CREATED:20170403T213942Z
LAST-MODIFIED:20170509T195359Z
UID:427-1492191000-1496257200@www.lopezhamlet.com
SUMMARY:Ruth van Doren Art Opening at The Hamlet
DESCRIPTION:Ruth van Doren art exhibit on display at The Gathering Place until May 31st. \nRuth Van Doren Art Opening
URL:https://www.lopezhamlet.com/event/ruth-van-doren-art-opening-at-the-hamlet/
END:VEVENT
BEGIN:VEVENT
DTSTART;TZID=America/Los_Angeles:20170412T163000
DTEND;TZID=America/Los_Angeles:20170412T173000
DTSTAMP:20260423T114345
CREATED:20170403T213623Z
LAST-MODIFIED:20170403T213750Z
UID:421-1492014600-1492018200@www.lopezhamlet.com
SUMMARY:Garden Happy Hour at The Hamlet
DESCRIPTION:Please click on the link for more information. \nGarden Happy Hour at The Hamlet
URL:https://www.lopezhamlet.com/event/garden-happy-hour-at-the-hamlet/
END:VEVENT
BEGIN:VEVENT
DTSTART;TZID=America/Los_Angeles:20170406T160000
DTEND;TZID=America/Los_Angeles:20170406T180000
DTSTAMP:20260423T114345
CREATED:20170403T202324Z
LAST-MODIFIED:20170403T203235Z
UID:412-1491494400-1491501600@www.lopezhamlet.com
SUMMARY:Steven Hill Live Art Demo
DESCRIPTION:Steven Hill Live Demo at The Hamlet \nClick on link above for our poster and more information.
URL:https://www.lopezhamlet.com/event/steven-hill-live-art-demo/
LOCATION:Gathering Place
END:VEVENT
END:VCALENDAR